BEGIN:VCALENDAR
VERSION:2.0
METHOD:PUBLISH
BEGIN:VEVENT
DTSTART:20210706T100000
DTEND:20210706T113000
LOCATION:
TRANSP: OPAQUE
SEQUENCE:0
UID:
DTSTAMP:20260421T213148
SUMMARY:Talk: Hugh Edmund Ford; Teacher, Builder, Abbot, Spy
DESCRIPTION:Downside Abbey
PRIORITY:1
CLASS:PUBLIC
BEGIN:VALARM
TRIGGER:-PT10080M
ACTION:DISPLAY
DESCRIPTION:Reminder
END:VALARM
END:VEVENT
END:VCALENDAR
