BEGIN:VCALENDAR
VERSION:2.0
METHOD:PUBLISH
BEGIN:VEVENT
DTSTART:20200303T100000
DTEND:20200303T110000
LOCATION:Downside Abbey
TRANSP: OPAQUE
SEQUENCE:0
UID:
DTSTAMP:20260421T213149
SUMMARY:Archaeology of Bath Abbey Talk
DESCRIPTION:Downside Abbey
PRIORITY:1
CLASS:PUBLIC
BEGIN:VALARM
TRIGGER:-PT10080M
ACTION:DISPLAY
DESCRIPTION:Reminder
END:VALARM
END:VEVENT
END:VCALENDAR
