BEGIN:VCALENDAR
VERSION:2.0
METHOD:PUBLISH
BEGIN:VEVENT
DTSTART:20200119T150000
DTEND:20200119T160000
LOCATION:Downside Abbey Church
TRANSP: OPAQUE
SEQUENCE:0
UID:
DTSTAMP:20260421T194830
SUMMARY:Choral Evensong with Wells Cathedral
DESCRIPTION:Downside Abbey
PRIORITY:1
CLASS:PUBLIC
BEGIN:VALARM
TRIGGER:-PT10080M
ACTION:DISPLAY
DESCRIPTION:Reminder
END:VALARM
END:VEVENT
END:VCALENDAR
