BEGIN:VCALENDAR
VERSION:2.0
METHOD:PUBLISH
BEGIN:VEVENT
DTSTART:20191122T000000
DTEND:20191122T000000
LOCATION:Downside Abbey
TRANSP: OPAQUE
SEQUENCE:0
UID:
DTSTAMP:20260421T195125
SUMMARY:MONASTIC EXPERIENCE WEEKEND
DESCRIPTION:Downside Abbey
PRIORITY:1
CLASS:PUBLIC
BEGIN:VALARM
TRIGGER:-PT10080M
ACTION:DISPLAY
DESCRIPTION:Reminder
END:VALARM
END:VEVENT
END:VCALENDAR
