BEGIN:VCALENDAR
VERSION:2.0
METHOD:PUBLISH
BEGIN:VEVENT
DTSTART:20190623T150000
DTEND:20190623T170000
LOCATION:Begins at St Benedict's Church, Stratton-on-the-Fosse
TRANSP: OPAQUE
SEQUENCE:0
UID:
DTSTAMP:20260421T195949
SUMMARY:CORPUS CHRISTI 2019
DESCRIPTION:Downside Abbey
PRIORITY:1
CLASS:PUBLIC
BEGIN:VALARM
TRIGGER:-PT10080M
ACTION:DISPLAY
DESCRIPTION:Reminder
END:VALARM
END:VEVENT
END:VCALENDAR
