BEGIN:VCALENDAR
VERSION:2.0
METHOD:PUBLISH
BEGIN:VEVENT
DTSTART:20190227T110000
DTEND:20190227T123000
LOCATION:Downside Abbey Visitor Centre
TRANSP: OPAQUE
SEQUENCE:0
UID:
DTSTAMP:20260421T201253
SUMMARY:DOM JOSEPH COOMBE-TENNANT TALK
DESCRIPTION:Downside Abbey
PRIORITY:1
CLASS:PUBLIC
BEGIN:VALARM
TRIGGER:-PT10080M
ACTION:DISPLAY
DESCRIPTION:Reminder
END:VALARM
END:VEVENT
END:VCALENDAR
